BEGIN:VCALENDAR
VERSION:2.0
PRODID:-//Fondation Brel - ECPv6.14.0//NONSGML v1.0//EN
CALSCALE:GREGORIAN
METHOD:PUBLISH
X-ORIGINAL-URL:https://billetterie.fondationbrel.be
X-WR-CALDESC:Évènements pour Fondation Brel
REFRESH-INTERVAL;VALUE=DURATION:PT1H
X-Robots-Tag:noindex
X-PUBLISHED-TTL:PT1H
BEGIN:VTIMEZONE
TZID:Europe/Brussels
BEGIN:DAYLIGHT
TZOFFSETFROM:+0100
TZOFFSETTO:+0200
TZNAME:CEST
DTSTART:20250330T010000
END:DAYLIGHT
BEGIN:STANDARD
TZOFFSETFROM:+0200
TZOFFSETTO:+0100
TZNAME:CET
DTSTART:20251026T010000
END:STANDARD
END:VTIMEZONE
BEGIN:VEVENT
DTSTART;TZID=Europe/Brussels:20250428T110000
DTEND;TZID=Europe/Brussels:20250428T113000
DTSTAMP:20260422T154736
CREATED:20250423T084643Z
LAST-MODIFIED:20250423T085220Z
UID:10000661-1745838000-1745839800@billetterie.fondationbrel.be
SUMMARY:Promenade le 28/04/2025 à 11h00
DESCRIPTION:
URL:https://billetterie.fondationbrel.be/activite/promenade-le-28-04-2025-a-11h00/
CATEGORIES:Promenade
END:VEVENT
BEGIN:VEVENT
DTSTART;TZID=Europe/Brussels:20250428T113000
DTEND;TZID=Europe/Brussels:20250428T120000
DTSTAMP:20260422T154736
CREATED:20250423T084643Z
LAST-MODIFIED:20250423T085220Z
UID:10000662-1745839800-1745841600@billetterie.fondationbrel.be
SUMMARY:Promenade le 28/04/2025 à 11h30
DESCRIPTION:
URL:https://billetterie.fondationbrel.be/activite/promenade-le-28-04-2025-a-11h30/
CATEGORIES:Promenade
END:VEVENT
BEGIN:VEVENT
DTSTART;TZID=Europe/Brussels:20250428T120000
DTEND;TZID=Europe/Brussels:20250428T123000
DTSTAMP:20260422T154736
CREATED:20250423T084644Z
LAST-MODIFIED:20250423T085220Z
UID:10000663-1745841600-1745843400@billetterie.fondationbrel.be
SUMMARY:Promenade le 28/04/2025 à 12h00
DESCRIPTION:
URL:https://billetterie.fondationbrel.be/activite/promenade-le-28-04-2025-a-12h00/
CATEGORIES:Promenade
END:VEVENT
BEGIN:VEVENT
DTSTART;TZID=Europe/Brussels:20250428T123000
DTEND;TZID=Europe/Brussels:20250428T130000
DTSTAMP:20260422T154736
CREATED:20250423T084645Z
LAST-MODIFIED:20250423T085220Z
UID:10000664-1745843400-1745845200@billetterie.fondationbrel.be
SUMMARY:Promenade le 28/04/2025 à 12h30
DESCRIPTION:
URL:https://billetterie.fondationbrel.be/activite/promenade-le-28-04-2025-a-12h30/
CATEGORIES:Promenade
END:VEVENT
BEGIN:VEVENT
DTSTART;TZID=Europe/Brussels:20250428T130000
DTEND;TZID=Europe/Brussels:20250428T133000
DTSTAMP:20260422T154736
CREATED:20250423T084645Z
LAST-MODIFIED:20250423T085220Z
UID:10000665-1745845200-1745847000@billetterie.fondationbrel.be
SUMMARY:Promenade le 28/04/2025 à 13h00
DESCRIPTION:
URL:https://billetterie.fondationbrel.be/activite/promenade-le-28-04-2025-a-13h00/
CATEGORIES:Promenade
END:VEVENT
BEGIN:VEVENT
DTSTART;TZID=Europe/Brussels:20250428T133000
DTEND;TZID=Europe/Brussels:20250428T140000
DTSTAMP:20260422T154736
CREATED:20250423T084645Z
LAST-MODIFIED:20250423T085219Z
UID:10000666-1745847000-1745848800@billetterie.fondationbrel.be
SUMMARY:Promenade le 28/04/2025 à 13h30
DESCRIPTION:
URL:https://billetterie.fondationbrel.be/activite/promenade-le-28-04-2025-a-13h30/
CATEGORIES:Promenade
END:VEVENT
BEGIN:VEVENT
DTSTART;TZID=Europe/Brussels:20250428T140000
DTEND;TZID=Europe/Brussels:20250428T143000
DTSTAMP:20260422T154736
CREATED:20250423T084647Z
LAST-MODIFIED:20250423T085219Z
UID:10000667-1745848800-1745850600@billetterie.fondationbrel.be
SUMMARY:Promenade le 28/04/2025 à 14h00
DESCRIPTION:
URL:https://billetterie.fondationbrel.be/activite/promenade-le-28-04-2025-a-14h00/
CATEGORIES:Promenade
END:VEVENT
BEGIN:VEVENT
DTSTART;TZID=Europe/Brussels:20250428T143000
DTEND;TZID=Europe/Brussels:20250428T150000
DTSTAMP:20260422T154736
CREATED:20250423T084647Z
LAST-MODIFIED:20250423T085219Z
UID:10000668-1745850600-1745852400@billetterie.fondationbrel.be
SUMMARY:Promenade le 28/04/2025 à 14h30
DESCRIPTION:
URL:https://billetterie.fondationbrel.be/activite/promenade-le-28-04-2025-a-14h30/
CATEGORIES:Promenade
END:VEVENT
BEGIN:VEVENT
DTSTART;TZID=Europe/Brussels:20250428T150000
DTEND;TZID=Europe/Brussels:20250428T153000
DTSTAMP:20260422T154736
CREATED:20250423T084647Z
LAST-MODIFIED:20250423T085219Z
UID:10000669-1745852400-1745854200@billetterie.fondationbrel.be
SUMMARY:Promenade le 28/04/2025 à 15h00
DESCRIPTION:
URL:https://billetterie.fondationbrel.be/activite/promenade-le-28-04-2025-a-15h00/
CATEGORIES:Promenade
END:VEVENT
BEGIN:VEVENT
DTSTART;TZID=Europe/Brussels:20250428T153000
DTEND;TZID=Europe/Brussels:20250428T160000
DTSTAMP:20260422T154736
CREATED:20250423T084648Z
LAST-MODIFIED:20250423T085219Z
UID:10000670-1745854200-1745856000@billetterie.fondationbrel.be
SUMMARY:Promenade le 28/04/2025 à 15h30
DESCRIPTION:
URL:https://billetterie.fondationbrel.be/activite/promenade-le-28-04-2025-a-15h30/
CATEGORIES:Promenade
END:VEVENT
BEGIN:VEVENT
DTSTART;TZID=Europe/Brussels:20250428T160000
DTEND;TZID=Europe/Brussels:20250428T163000
DTSTAMP:20260422T154736
CREATED:20250423T084649Z
LAST-MODIFIED:20250423T085219Z
UID:10000671-1745856000-1745857800@billetterie.fondationbrel.be
SUMMARY:Promenade le 28/04/2025 à 16h00
DESCRIPTION:
URL:https://billetterie.fondationbrel.be/activite/promenade-le-28-04-2025-a-16h00/
CATEGORIES:Promenade
END:VEVENT
BEGIN:VEVENT
DTSTART;TZID=Europe/Brussels:20250428T163000
DTEND;TZID=Europe/Brussels:20250428T170000
DTSTAMP:20260422T154736
CREATED:20250423T084649Z
LAST-MODIFIED:20250423T085218Z
UID:10000672-1745857800-1745859600@billetterie.fondationbrel.be
SUMMARY:Promenade le 28/04/2025 à 16h30
DESCRIPTION:
URL:https://billetterie.fondationbrel.be/activite/promenade-le-28-04-2025-a-16h30/
CATEGORIES:Promenade
END:VEVENT
END:VCALENDAR