BEGIN:VCALENDAR
VERSION:2.0
PRODID:-//Fondation Brel - ECPv6.14.0//NONSGML v1.0//EN
CALSCALE:GREGORIAN
METHOD:PUBLISH
X-WR-CALNAME:Fondation Brel
X-ORIGINAL-URL:https://billetterie.fondationbrel.be
X-WR-CALDESC:Évènements pour Fondation Brel
REFRESH-INTERVAL;VALUE=DURATION:PT1H
X-Robots-Tag:noindex
X-PUBLISHED-TTL:PT1H
BEGIN:VTIMEZONE
TZID:Europe/Brussels
BEGIN:DAYLIGHT
TZOFFSETFROM:+0100
TZOFFSETTO:+0200
TZNAME:CEST
DTSTART:20250330T010000
END:DAYLIGHT
BEGIN:STANDARD
TZOFFSETFROM:+0200
TZOFFSETTO:+0100
TZNAME:CET
DTSTART:20251026T010000
END:STANDARD
END:VTIMEZONE
BEGIN:VEVENT
DTSTART;TZID=Europe/Brussels:20250423T110000
DTEND;TZID=Europe/Brussels:20250423T113000
DTSTAMP:20260422T154005
CREATED:20250423T084604Z
LAST-MODIFIED:20250423T085324Z
UID:10000601-1745406000-1745407800@billetterie.fondationbrel.be
SUMMARY:Promenade le 23/04/2025 à 11h00
DESCRIPTION:
URL:https://billetterie.fondationbrel.be/activite/promenade-le-23-04-2025-a-11h00/
CATEGORIES:Promenade
END:VEVENT
BEGIN:VEVENT
DTSTART;TZID=Europe/Brussels:20250423T113000
DTEND;TZID=Europe/Brussels:20250423T120000
DTSTAMP:20260422T154005
CREATED:20250423T084604Z
LAST-MODIFIED:20250423T085324Z
UID:10000602-1745407800-1745409600@billetterie.fondationbrel.be
SUMMARY:Promenade le 23/04/2025 à 11h30
DESCRIPTION:
URL:https://billetterie.fondationbrel.be/activite/promenade-le-23-04-2025-a-11h30/
CATEGORIES:Promenade
END:VEVENT
BEGIN:VEVENT
DTSTART;TZID=Europe/Brussels:20250423T120000
DTEND;TZID=Europe/Brussels:20250423T123000
DTSTAMP:20260422T154005
CREATED:20250423T084604Z
LAST-MODIFIED:20250423T085324Z
UID:10000603-1745409600-1745411400@billetterie.fondationbrel.be
SUMMARY:Promenade le 23/04/2025 à 12h00
DESCRIPTION:
URL:https://billetterie.fondationbrel.be/activite/promenade-le-23-04-2025-a-12h00/
CATEGORIES:Promenade
END:VEVENT
BEGIN:VEVENT
DTSTART;TZID=Europe/Brussels:20250423T123000
DTEND;TZID=Europe/Brussels:20250423T130000
DTSTAMP:20260422T154005
CREATED:20250423T084606Z
LAST-MODIFIED:20250423T085324Z
UID:10000604-1745411400-1745413200@billetterie.fondationbrel.be
SUMMARY:Promenade le 23/04/2025 à 12h30
DESCRIPTION:
URL:https://billetterie.fondationbrel.be/activite/promenade-le-23-04-2025-a-12h30/
CATEGORIES:Promenade
END:VEVENT
BEGIN:VEVENT
DTSTART;TZID=Europe/Brussels:20250423T130000
DTEND;TZID=Europe/Brussels:20250423T133000
DTSTAMP:20260422T154005
CREATED:20250423T084607Z
LAST-MODIFIED:20250423T085324Z
UID:10000605-1745413200-1745415000@billetterie.fondationbrel.be
SUMMARY:Promenade le 23/04/2025 à 13h00
DESCRIPTION:
URL:https://billetterie.fondationbrel.be/activite/promenade-le-23-04-2025-a-13h00/
CATEGORIES:Promenade
END:VEVENT
BEGIN:VEVENT
DTSTART;TZID=Europe/Brussels:20250423T133000
DTEND;TZID=Europe/Brussels:20250423T140000
DTSTAMP:20260422T154005
CREATED:20250423T084607Z
LAST-MODIFIED:20250423T085324Z
UID:10000606-1745415000-1745416800@billetterie.fondationbrel.be
SUMMARY:Promenade le 23/04/2025 à 13h30
DESCRIPTION:
URL:https://billetterie.fondationbrel.be/activite/promenade-le-23-04-2025-a-13h30/
CATEGORIES:Promenade
END:VEVENT
BEGIN:VEVENT
DTSTART;TZID=Europe/Brussels:20250423T140000
DTEND;TZID=Europe/Brussels:20250423T143000
DTSTAMP:20260422T154005
CREATED:20250423T084608Z
LAST-MODIFIED:20250423T085323Z
UID:10000607-1745416800-1745418600@billetterie.fondationbrel.be
SUMMARY:Promenade le 23/04/2025 à 14h00
DESCRIPTION:
URL:https://billetterie.fondationbrel.be/activite/promenade-le-23-04-2025-a-14h00/
CATEGORIES:Promenade
END:VEVENT
BEGIN:VEVENT
DTSTART;TZID=Europe/Brussels:20250423T143000
DTEND;TZID=Europe/Brussels:20250423T150000
DTSTAMP:20260422T154005
CREATED:20250423T084609Z
LAST-MODIFIED:20250423T085323Z
UID:10000608-1745418600-1745420400@billetterie.fondationbrel.be
SUMMARY:Promenade le 23/04/2025 à 14h30
DESCRIPTION:
URL:https://billetterie.fondationbrel.be/activite/promenade-le-23-04-2025-a-14h30/
CATEGORIES:Promenade
END:VEVENT
BEGIN:VEVENT
DTSTART;TZID=Europe/Brussels:20250423T150000
DTEND;TZID=Europe/Brussels:20250423T153000
DTSTAMP:20260422T154005
CREATED:20250423T084609Z
LAST-MODIFIED:20250423T085323Z
UID:10000609-1745420400-1745422200@billetterie.fondationbrel.be
SUMMARY:Promenade le 23/04/2025 à 15h00
DESCRIPTION:
URL:https://billetterie.fondationbrel.be/activite/promenade-le-23-04-2025-a-15h00/
CATEGORIES:Promenade
END:VEVENT
BEGIN:VEVENT
DTSTART;TZID=Europe/Brussels:20250423T153000
DTEND;TZID=Europe/Brussels:20250423T160000
DTSTAMP:20260422T154005
CREATED:20250423T084610Z
LAST-MODIFIED:20250423T085323Z
UID:10000610-1745422200-1745424000@billetterie.fondationbrel.be
SUMMARY:Promenade le 23/04/2025 à 15h30
DESCRIPTION:
URL:https://billetterie.fondationbrel.be/activite/promenade-le-23-04-2025-a-15h30/
CATEGORIES:Promenade
END:VEVENT
BEGIN:VEVENT
DTSTART;TZID=Europe/Brussels:20250423T160000
DTEND;TZID=Europe/Brussels:20250423T163000
DTSTAMP:20260422T154005
CREATED:20250423T084610Z
LAST-MODIFIED:20250423T085323Z
UID:10000611-1745424000-1745425800@billetterie.fondationbrel.be
SUMMARY:Promenade le 23/04/2025 à 16h00
DESCRIPTION:
URL:https://billetterie.fondationbrel.be/activite/promenade-le-23-04-2025-a-16h00/
CATEGORIES:Promenade
END:VEVENT
BEGIN:VEVENT
DTSTART;TZID=Europe/Brussels:20250423T163000
DTEND;TZID=Europe/Brussels:20250423T170000
DTSTAMP:20260422T154005
CREATED:20250423T084611Z
LAST-MODIFIED:20250423T085323Z
UID:10000612-1745425800-1745427600@billetterie.fondationbrel.be
SUMMARY:Promenade le 23/04/2025 à 16h30
DESCRIPTION:
URL:https://billetterie.fondationbrel.be/activite/promenade-le-23-04-2025-a-16h30/
CATEGORIES:Promenade
END:VEVENT
BEGIN:VEVENT
DTSTART;TZID=Europe/Brussels:20250424T110000
DTEND;TZID=Europe/Brussels:20250424T113000
DTSTAMP:20260422T154005
CREATED:20250423T084612Z
LAST-MODIFIED:20250423T085323Z
UID:10000613-1745492400-1745494200@billetterie.fondationbrel.be
SUMMARY:Promenade le 24/04/2025 à 11h00
DESCRIPTION:
URL:https://billetterie.fondationbrel.be/activite/promenade-le-24-04-2025-a-11h00/
CATEGORIES:Promenade
END:VEVENT
BEGIN:VEVENT
DTSTART;TZID=Europe/Brussels:20250424T113000
DTEND;TZID=Europe/Brussels:20250424T120000
DTSTAMP:20260422T154005
CREATED:20250423T084612Z
LAST-MODIFIED:20250423T085323Z
UID:10000614-1745494200-1745496000@billetterie.fondationbrel.be
SUMMARY:Promenade le 24/04/2025 à 11h30
DESCRIPTION:
URL:https://billetterie.fondationbrel.be/activite/promenade-le-24-04-2025-a-11h30/
CATEGORIES:Promenade
END:VEVENT
BEGIN:VEVENT
DTSTART;TZID=Europe/Brussels:20250424T120000
DTEND;TZID=Europe/Brussels:20250424T123000
DTSTAMP:20260422T154005
CREATED:20250423T084612Z
LAST-MODIFIED:20250423T085322Z
UID:10000615-1745496000-1745497800@billetterie.fondationbrel.be
SUMMARY:Promenade le 24/04/2025 à 12h00
DESCRIPTION:
URL:https://billetterie.fondationbrel.be/activite/promenade-le-24-04-2025-a-12h00/
CATEGORIES:Promenade
END:VEVENT
BEGIN:VEVENT
DTSTART;TZID=Europe/Brussels:20250424T123000
DTEND;TZID=Europe/Brussels:20250424T130000
DTSTAMP:20260422T154005
CREATED:20250423T084614Z
LAST-MODIFIED:20250423T085322Z
UID:10000616-1745497800-1745499600@billetterie.fondationbrel.be
SUMMARY:Promenade le 24/04/2025 à 12h30
DESCRIPTION:
URL:https://billetterie.fondationbrel.be/activite/promenade-le-24-04-2025-a-12h30/
CATEGORIES:Promenade
END:VEVENT
BEGIN:VEVENT
DTSTART;TZID=Europe/Brussels:20250424T130000
DTEND;TZID=Europe/Brussels:20250424T133000
DTSTAMP:20260422T154005
CREATED:20250423T084614Z
LAST-MODIFIED:20250423T085300Z
UID:10000617-1745499600-1745501400@billetterie.fondationbrel.be
SUMMARY:Promenade le 24/04/2025 à 13h00
DESCRIPTION:
URL:https://billetterie.fondationbrel.be/activite/promenade-le-24-04-2025-a-13h00/
CATEGORIES:Promenade
END:VEVENT
BEGIN:VEVENT
DTSTART;TZID=Europe/Brussels:20250424T133000
DTEND;TZID=Europe/Brussels:20250424T140000
DTSTAMP:20260422T154005
CREATED:20250423T084615Z
LAST-MODIFIED:20250423T085300Z
UID:10000618-1745501400-1745503200@billetterie.fondationbrel.be
SUMMARY:Promenade le 24/04/2025 à 13h30
DESCRIPTION:
URL:https://billetterie.fondationbrel.be/activite/promenade-le-24-04-2025-a-13h30/
CATEGORIES:Promenade
END:VEVENT
BEGIN:VEVENT
DTSTART;TZID=Europe/Brussels:20250424T140000
DTEND;TZID=Europe/Brussels:20250424T143000
DTSTAMP:20260422T154005
CREATED:20250423T084616Z
LAST-MODIFIED:20250423T085300Z
UID:10000619-1745503200-1745505000@billetterie.fondationbrel.be
SUMMARY:Promenade le 24/04/2025 à 14h00
DESCRIPTION:
URL:https://billetterie.fondationbrel.be/activite/promenade-le-24-04-2025-a-14h00/
CATEGORIES:Promenade
END:VEVENT
BEGIN:VEVENT
DTSTART;TZID=Europe/Brussels:20250424T143000
DTEND;TZID=Europe/Brussels:20250424T150000
DTSTAMP:20260422T154005
CREATED:20250423T084616Z
LAST-MODIFIED:20250423T085259Z
UID:10000620-1745505000-1745506800@billetterie.fondationbrel.be
SUMMARY:Promenade le 24/04/2025 à 14h30
DESCRIPTION:
URL:https://billetterie.fondationbrel.be/activite/promenade-le-24-04-2025-a-14h30/
CATEGORIES:Promenade
END:VEVENT
BEGIN:VEVENT
DTSTART;TZID=Europe/Brussels:20250424T150000
DTEND;TZID=Europe/Brussels:20250424T153000
DTSTAMP:20260422T154005
CREATED:20250423T084617Z
LAST-MODIFIED:20250423T085259Z
UID:10000621-1745506800-1745508600@billetterie.fondationbrel.be
SUMMARY:Promenade le 24/04/2025 à 15h00
DESCRIPTION:
URL:https://billetterie.fondationbrel.be/activite/promenade-le-24-04-2025-a-15h00/
CATEGORIES:Promenade
END:VEVENT
BEGIN:VEVENT
DTSTART;TZID=Europe/Brussels:20250424T153000
DTEND;TZID=Europe/Brussels:20250424T160000
DTSTAMP:20260422T154005
CREATED:20250423T084618Z
LAST-MODIFIED:20250423T085259Z
UID:10000622-1745508600-1745510400@billetterie.fondationbrel.be
SUMMARY:Promenade le 24/04/2025 à 15h30
DESCRIPTION:
URL:https://billetterie.fondationbrel.be/activite/promenade-le-24-04-2025-a-15h30/
CATEGORIES:Promenade
END:VEVENT
BEGIN:VEVENT
DTSTART;TZID=Europe/Brussels:20250424T160000
DTEND;TZID=Europe/Brussels:20250424T163000
DTSTAMP:20260422T154005
CREATED:20250423T084618Z
LAST-MODIFIED:20250423T085259Z
UID:10000623-1745510400-1745512200@billetterie.fondationbrel.be
SUMMARY:Promenade le 24/04/2025 à 16h00
DESCRIPTION:
URL:https://billetterie.fondationbrel.be/activite/promenade-le-24-04-2025-a-16h00/
CATEGORIES:Promenade
END:VEVENT
BEGIN:VEVENT
DTSTART;TZID=Europe/Brussels:20250424T163000
DTEND;TZID=Europe/Brussels:20250424T170000
DTSTAMP:20260422T154005
CREATED:20250423T084618Z
LAST-MODIFIED:20250423T085259Z
UID:10000624-1745512200-1745514000@billetterie.fondationbrel.be
SUMMARY:Promenade le 24/04/2025 à 16h30
DESCRIPTION:
URL:https://billetterie.fondationbrel.be/activite/promenade-le-24-04-2025-a-16h30/
CATEGORIES:Promenade
END:VEVENT
BEGIN:VEVENT
DTSTART;TZID=Europe/Brussels:20250425T110000
DTEND;TZID=Europe/Brussels:20250425T113000
DTSTAMP:20260422T154005
CREATED:20250423T084620Z
LAST-MODIFIED:20250423T085259Z
UID:10000625-1745578800-1745580600@billetterie.fondationbrel.be
SUMMARY:Promenade le 25/04/2025 à 11h00
DESCRIPTION:
URL:https://billetterie.fondationbrel.be/activite/promenade-le-25-04-2025-a-11h00/
CATEGORIES:Promenade
END:VEVENT
BEGIN:VEVENT
DTSTART;TZID=Europe/Brussels:20250425T113000
DTEND;TZID=Europe/Brussels:20250425T120000
DTSTAMP:20260422T154005
CREATED:20250423T084620Z
LAST-MODIFIED:20250423T085259Z
UID:10000626-1745580600-1745582400@billetterie.fondationbrel.be
SUMMARY:Promenade le 25/04/2025 à 11h30
DESCRIPTION:
URL:https://billetterie.fondationbrel.be/activite/promenade-le-25-04-2025-a-11h30/
CATEGORIES:Promenade
END:VEVENT
BEGIN:VEVENT
DTSTART;TZID=Europe/Brussels:20250425T120000
DTEND;TZID=Europe/Brussels:20250425T123000
DTSTAMP:20260422T154005
CREATED:20250423T084620Z
LAST-MODIFIED:20250423T085258Z
UID:10000627-1745582400-1745584200@billetterie.fondationbrel.be
SUMMARY:Promenade le 25/04/2025 à 12h00
DESCRIPTION:
URL:https://billetterie.fondationbrel.be/activite/promenade-le-25-04-2025-a-12h00/
CATEGORIES:Promenade
END:VEVENT
BEGIN:VEVENT
DTSTART;TZID=Europe/Brussels:20250425T123000
DTEND;TZID=Europe/Brussels:20250425T130000
DTSTAMP:20260422T154005
CREATED:20250423T084622Z
LAST-MODIFIED:20250423T085258Z
UID:10000628-1745584200-1745586000@billetterie.fondationbrel.be
SUMMARY:Promenade le 25/04/2025 à 12h30
DESCRIPTION:
URL:https://billetterie.fondationbrel.be/activite/promenade-le-25-04-2025-a-12h30/
CATEGORIES:Promenade
END:VEVENT
BEGIN:VEVENT
DTSTART;TZID=Europe/Brussels:20250425T130000
DTEND;TZID=Europe/Brussels:20250425T133000
DTSTAMP:20260422T154005
CREATED:20250423T084622Z
LAST-MODIFIED:20250423T085258Z
UID:10000629-1745586000-1745587800@billetterie.fondationbrel.be
SUMMARY:Promenade le 25/04/2025 à 13h00
DESCRIPTION:
URL:https://billetterie.fondationbrel.be/activite/promenade-le-25-04-2025-a-13h00/
CATEGORIES:Promenade
END:VEVENT
BEGIN:VEVENT
DTSTART;TZID=Europe/Brussels:20250425T133000
DTEND;TZID=Europe/Brussels:20250425T140000
DTSTAMP:20260422T154005
CREATED:20250423T084622Z
LAST-MODIFIED:20250423T085258Z
UID:10000630-1745587800-1745589600@billetterie.fondationbrel.be
SUMMARY:Promenade le 25/04/2025 à 13h30
DESCRIPTION:
URL:https://billetterie.fondationbrel.be/activite/promenade-le-25-04-2025-a-13h30/
CATEGORIES:Promenade
END:VEVENT
END:VCALENDAR